BEGIN:VCALENDAR
VERSION:2.0
PRODID:-//Sabre//Sabre VObject 4.5.8//EN
CALSCALE:GREGORIAN
BEGIN:VEVENT
UID:sabre-vobject-6263d4de-d82f-4768-a39a-0b9ded181607
DTSTAMP:20260424T080624Z
SUMMARY:Strong BANDS: Flora & Fauna Walk
DESCRIPTION:Walking is a great passive exercise activity that may improve y
 our overall physical and mental wellbeing.\n
X-ALT-DESC:FMTTYPE=text/html:<!DOCTYPE HTML PUBLIC "-//W3C//DTD HTML 3.2//E
 N"><HTML><p data-pm-slice="1 1 []">Walking is a great passive exercise act
 ivity that may improve your overall physical and mental wellbeing.</p>\n</
 HTML>
CREATED;TZID=America/Puerto_Rico:20250509T154338
URL;VALUE=URI:https://buchanan.armymwr.com/fort-buchanan-mwr-events-program
 s/fort-buchanan-mwr-events-programs-calendar
DTSTART;TZID=America/Puerto_Rico:20250519T163000
DTEND;TZID=America/Puerto_Rico:20250519T173000
SEQUENCE:0
END:VEVENT
END:VCALENDAR
