BEGIN:VCALENDAR
VERSION:2.0
PRODID:-//Sabre//Sabre VObject 4.5.8//EN
CALSCALE:GREGORIAN
BEGIN:VEVENT
UID:sabre-vobject-db8f658f-84bd-498f-866a-568aeaed040c
DTSTAMP:20260420T125600Z
SUMMARY:Kayaking & Fishing @The Lake
DESCRIPTION:Learn how to Kayak or Fishing at Las Casas Lake!\n
X-ALT-DESC:FMTTYPE=text/html:<!DOCTYPE HTML PUBLIC "-//W3C//DTD HTML 3.2//E
 N"><HTML><p data-pm-slice="1 1 []">Learn how to Kayak or Fishing at Las Ca
 sas Lake!</p>\n</HTML>
CREATED;TZID=America/Puerto_Rico:20250409T094613
URL;VALUE=URI:https://buchanan.armymwr.com/fort-buchanan-mwr-events-program
 s/fort-buchanan-mwr-events-programs-calendar
DTSTART;TZID=America/Puerto_Rico:20250503T090000
DTEND;TZID=America/Puerto_Rico:20250503T140000
SEQUENCE:0
END:VEVENT
END:VCALENDAR
