BEGIN:VCALENDAR
VERSION:2.0
PRODID:-//Sabre//Sabre VObject 4.5.8//EN
CALSCALE:GREGORIAN
BEGIN:VEVENT
UID:sabre-vobject-a278a6c7-0129-4ee2-8be2-ca805d2b7334
DTSTAMP:20260423T232939Z
SUMMARY:Bowling Center Lunch Specials
DESCRIPTION:Available from July 16 to 19!\n
X-ALT-DESC:FMTTYPE=text/html:<!DOCTYPE HTML PUBLIC "-//W3C//DTD HTML 3.2//E
 N"><HTML><p>Available from July 16 to 19!</p>\n</HTML>
CREATED;TZID=America/Puerto_Rico:20240715T121439
URL;VALUE=URI:https://buchanan.armymwr.com/fort-buchanan-mwr-events-program
 s/fort-buchanan-mwr-events-programs-calendar
DTSTART;TZID=America/Puerto_Rico:20240716T110000
DTEND;TZID=America/Puerto_Rico:20240719T140000
SEQUENCE:0
END:VEVENT
END:VCALENDAR
