BEGIN:VCALENDAR
VERSION:2.0
PRODID:-//Sabre//Sabre VObject 4.5.8//EN
CALSCALE:GREGORIAN
BEGIN:VEVENT
UID:sabre-vobject-71e05990-2df8-4508-8630-d5424e6c8985
DTSTAMP:20260423T105830Z
SUMMARY:Bowling Center Lunch Specials
DESCRIPTION:Join us for lunch from June 18-21\n
X-ALT-DESC:FMTTYPE=text/html:<!DOCTYPE HTML PUBLIC "-//W3C//DTD HTML 3.2//E
 N"><HTML><p>Join us for lunch from June 18-21</p>\n</HTML>
CREATED;TZID=America/Puerto_Rico:20240614T095253
URL;VALUE=URI:https://buchanan.armymwr.com/fort-buchanan-mwr-events-program
 s/fort-buchanan-mwr-events-programs-calendar
DTSTART;TZID=America/Puerto_Rico:20240618T110000
DTEND;TZID=America/Puerto_Rico:20240621T140000
SEQUENCE:0
END:VEVENT
END:VCALENDAR
