BEGIN:VCALENDAR
VERSION:2.0
PRODID:-//Sabre//Sabre VObject 4.5.8//EN
CALSCALE:GREGORIAN
BEGIN:VEVENT
UID:sabre-vobject-5afcc5e4-9c6e-4441-a60f-ea3846585dc4
DTSTAMP:20260422T040000Z
SUMMARY:Bowling Center
DESCRIPTION:Join us this week and enjoy amazing daily lunch specials!\n
X-ALT-DESC:FMTTYPE=text/html:<!DOCTYPE HTML PUBLIC "-//W3C//DTD HTML 3.2//E
 N"><HTML><p>Join us this week and enjoy amazing daily lunch specials!</p>\
 n</HTML>
CREATED;TZID=America/Puerto_Rico:20240429T092857
URL;VALUE=URI:https://buchanan.armymwr.com/fort-buchanan-mwr-events-program
 s/fort-buchanan-mwr-events-programs-calendar
DTSTART;TZID=America/Puerto_Rico:20240430T110000
DTEND;TZID=America/Puerto_Rico:20240503T140000
SEQUENCE:0
END:VEVENT
END:VCALENDAR
