BEGIN:VCALENDAR
VERSION:2.0
PRODID:-//Sabre//Sabre VObject 4.5.8//EN
CALSCALE:GREGORIAN
BEGIN:VEVENT
UID:sabre-vobject-049ff4d4-30d9-49bd-9111-4a44421b8b41
DTSTAMP:20260422T154815Z
SUMMARY:Mother's Day Brunch
DESCRIPTION:Make this Mother&#39\;s Day extra special!\n
X-ALT-DESC:FMTTYPE=text/html:<!DOCTYPE HTML PUBLIC "-//W3C//DTD HTML 3.2//E
 N"><HTML><p>Make this Mother&#39\;s Day extra special!</p>\n</HTML>
CREATED;TZID=America/Puerto_Rico:20240408T104105
URL;VALUE=URI:https://buchanan.armymwr.com/fort-buchanan-mwr-events-program
 s/fort-buchanan-mwr-events-programs-calendar
DTSTART;TZID=America/Puerto_Rico:20240512T110000
DTEND;TZID=America/Puerto_Rico:20240512T160000
SEQUENCE:0
END:VEVENT
END:VCALENDAR
