BEGIN:VCALENDAR
VERSION:2.0
PRODID:-//Sabre//Sabre VObject 4.5.8//EN
CALSCALE:GREGORIAN
BEGIN:VEVENT
UID:sabre-vobject-dd6da5c8-78b3-4ebd-af53-4021a2da19a8
DTSTAMP:20260422T035959Z
SUMMARY:Gary Sinise Lunch
DESCRIPTION:Free Complimentary for all Service Members.\n
X-ALT-DESC:FMTTYPE=text/html:<!DOCTYPE HTML PUBLIC "-//W3C//DTD HTML 3.2//E
 N"><HTML><p>Free Complimentary for all Service Members.</p>\n</HTML>
CREATED;TZID=America/Puerto_Rico:20240403T100155
URL;VALUE=URI:https://buchanan.armymwr.com/fort-buchanan-mwr-events-program
 s/fort-buchanan-mwr-events-programs-calendar
DTSTART;TZID=America/Puerto_Rico:20240405T110000
DTEND;TZID=America/Puerto_Rico:20240405T130000
SEQUENCE:0
END:VEVENT
END:VCALENDAR
