BEGIN:VCALENDAR
VERSION:2.0
PRODID:-//Sabre//Sabre VObject 4.5.8//EN
CALSCALE:GREGORIAN
BEGIN:VEVENT
UID:sabre-vobject-325a420b-e33d-4fca-93d2-a86706c02240
DTSTAMP:20260420T162353Z
SUMMARY:It's Movie Night!
DESCRIPTION:Free Entrance!\n
X-ALT-DESC:FMTTYPE=text/html:<!DOCTYPE HTML PUBLIC "-//W3C//DTD HTML 3.2//E
 N"><HTML><p>Free Entrance!</p>\n</HTML>
CREATED;TZID=America/Puerto_Rico:20240312T104720
URL;VALUE=URI:https://buchanan.armymwr.com/fort-buchanan-mwr-events-program
 s/fort-buchanan-mwr-events-programs-calendar
DTSTART;TZID=America/Puerto_Rico:20240322T170000
DTEND;TZID=America/Puerto_Rico:20240322T200000
SEQUENCE:0
END:VEVENT
END:VCALENDAR
