BEGIN:VCALENDAR
VERSION:2.0
PRODID:-//Sabre//Sabre VObject 4.5.8//EN
CALSCALE:GREGORIAN
BEGIN:VEVENT
UID:sabre-vobject-3adf2e94-9a88-4373-b4c4-75038b9ac1a2
DTSTAMP:20260420T162352Z
SUMMARY:Vietnam Veterans Lunch
DESCRIPTION:
X-ALT-DESC:FMTTYPE=text/html:<!DOCTYPE HTML PUBLIC "-//W3C//DTD HTML 3.2//E
 N"><HTML></HTML>
CREATED;TZID=America/Puerto_Rico:20240312T103622
URL;VALUE=URI:https://buchanan.armymwr.com/fort-buchanan-mwr-events-program
 s/fort-buchanan-mwr-events-programs-calendar
DTSTART;TZID=America/Puerto_Rico:20240326T110000
DTEND;TZID=America/Puerto_Rico:20240326T130000
SEQUENCE:0
END:VEVENT
END:VCALENDAR
