BEGIN:VCALENDAR
VERSION:2.0
PRODID:-//Sabre//Sabre VObject 4.5.8//EN
CALSCALE:GREGORIAN
BEGIN:VEVENT
UID:sabre-vobject-d9c3e6f5-398a-4d9f-a05a-8d083ac7ec05
DTSTAMP:20260420T023904Z
SUMMARY:Bowling Center Lunch Specials
DESCRIPTION:March 12 to 15\, 2024\n
X-ALT-DESC:FMTTYPE=text/html:<!DOCTYPE HTML PUBLIC "-//W3C//DTD HTML 3.2//E
 N"><HTML><p>March 12 to 15\, 2024</p>\n</HTML>
CREATED;TZID=America/Puerto_Rico:20240312T102225
URL;VALUE=URI:https://buchanan.armymwr.com/fort-buchanan-mwr-events-program
 s/fort-buchanan-mwr-events-programs-calendar
DTSTART;TZID=America/Puerto_Rico:20240312T110000
DTEND;TZID=America/Puerto_Rico:20240315T140000
SEQUENCE:0
END:VEVENT
END:VCALENDAR
