BEGIN:VCALENDAR
VERSION:2.0
PRODID:-//Sabre//Sabre VObject 4.5.8//EN
CALSCALE:GREGORIAN
BEGIN:VEVENT
UID:sabre-vobject-96c79b49-9881-43b5-bc58-01bff0ba5544
DTSTAMP:20260419T124228Z
SUMMARY:Bowling Center Lunch Specials
DESCRIPTION:Join us for lunch from March 5-8.\n
X-ALT-DESC:FMTTYPE=text/html:<!DOCTYPE HTML PUBLIC "-//W3C//DTD HTML 3.2//E
 N"><HTML><p>Join us for lunch from March 5-8.</p>\n</HTML>
CREATED;TZID=America/Puerto_Rico:20240304T111202
URL;VALUE=URI:https://buchanan.armymwr.com/fort-buchanan-mwr-events-program
 s/fort-buchanan-mwr-events-programs-calendar
DTSTART;TZID=America/Puerto_Rico:20240305T110000
DTEND;TZID=America/Puerto_Rico:20240308T140000
SEQUENCE:0
END:VEVENT
END:VCALENDAR
