BEGIN:VCALENDAR
VERSION:2.0
PRODID:-//Sabre//Sabre VObject 4.5.8//EN
CALSCALE:GREGORIAN
BEGIN:VEVENT
UID:sabre-vobject-1b1a765e-04d5-4ccd-bd94-0810f370dec5
DTSTAMP:20260419T160958Z
SUMMARY:FLEA MARKET
DESCRIPTION:Buy or sell!\n
X-ALT-DESC:FMTTYPE=text/html:<!DOCTYPE HTML PUBLIC "-//W3C//DTD HTML 3.2//E
 N"><HTML><p>Buy or sell!</p>\n</HTML>
CREATED;TZID=America/Puerto_Rico:20240118T100030
URL;VALUE=URI:https://buchanan.armymwr.com/fort-buchanan-mwr-events-program
 s/fort-buchanan-mwr-events-programs-calendar
DTSTART;TZID=America/Puerto_Rico:20240302T090000
DTEND;TZID=America/Puerto_Rico:20240302T160000
SEQUENCE:0
END:VEVENT
END:VCALENDAR
