BEGIN:VCALENDAR
VERSION:2.0
PRODID:-//Sabre//Sabre VObject 4.5.8//EN
CALSCALE:GREGORIAN
BEGIN:VEVENT
UID:sabre-vobject-f4c4dd6f-6f26-456d-a6f2-694fe5628088
DTSTAMP:20260420T033410Z
SUMMARY:Borinquen Bar & Patio Lunch Specials August 15-19
DESCRIPTION:Don&#39\;t miss the amazing daily specials.\n
X-ALT-DESC:FMTTYPE=text/html:<!DOCTYPE HTML PUBLIC "-//W3C//DTD HTML 3.2//E
 N"><HTML><p>Don&#39\;t miss the amazing daily specials.</p>\n</HTML>
CREATED;TZID=America/Puerto_Rico:20220815T090524
URL;VALUE=URI:https://buchanan.armymwr.com/fort-buchanan-mwr-events-program
 s/fort-buchanan-mwr-events-programs-calendar
DTSTART;TZID=America/Puerto_Rico:20220815T110000
DTEND;TZID=America/Puerto_Rico:20220819T140000
SEQUENCE:0
END:VEVENT
END:VCALENDAR
