BEGIN:VCALENDAR
VERSION:2.0
PRODID:-//Sabre//Sabre VObject 4.5.8//EN
CALSCALE:GREGORIAN
BEGIN:VEVENT
UID:sabre-vobject-8c16a567-de17-4446-a1d3-891881780400
DTSTAMP:20260419T130138Z
SUMMARY:4 x 160 Relay Exercises Class
DESCRIPTION:Exercise all your body with these fun exercises!\n
X-ALT-DESC:FMTTYPE=text/html:<!DOCTYPE HTML PUBLIC "-//W3C//DTD HTML 3.2//E
 N"><HTML><p>Exercise all your body with these fun exercises!</p>\n</HTML>
CREATED;TZID=America/Puerto_Rico:20220805T103102
URL;VALUE=URI:https://buchanan.armymwr.com/fort-buchanan-mwr-events-program
 s/fort-buchanan-mwr-events-programs-calendar
DTSTART;TZID=America/Puerto_Rico:20220816T170000
DTEND;TZID=America/Puerto_Rico:20220816T180000
SEQUENCE:0
END:VEVENT
END:VCALENDAR
