BEGIN:VCALENDAR
VERSION:2.0
PRODID:-//Sabre//Sabre VObject 4.5.8//EN
CALSCALE:GREGORIAN
BEGIN:VEVENT
UID:sabre-vobject-c09722c5-066d-47ab-87a6-95b15176edc1
DTSTAMP:20260420T142826Z
SUMMARY:Hurry Houdini: Escape Room Experience
DESCRIPTION:The Hurry Houdini experience is one part interactive theater\, 
 one part brain-game and one part escape room competition that all adds up 
 to an evening of 100% fun.\n
X-ALT-DESC:FMTTYPE=text/html:<!DOCTYPE HTML PUBLIC "-//W3C//DTD HTML 3.2//E
 N"><HTML><p>The Hurry Houdini experience is one part interactive theater\,
  one part brain-game and one part escape room competition that all adds up
  to an evening of 100% fun.</p>\n</HTML>
CREATED;TZID=America/Puerto_Rico:20220729T081211
URL;VALUE=URI:https://buchanan.armymwr.com/fort-buchanan-mwr-events-program
 s/fort-buchanan-mwr-events-programs-calendar
DTSTART;TZID=America/Puerto_Rico:20220804T160000
DTEND;TZID=America/Puerto_Rico:20220804T200000
SEQUENCE:0
END:VEVENT
END:VCALENDAR
