BEGIN:VCALENDAR
VERSION:2.0
PRODID:-//Sabre//Sabre VObject 4.5.8//EN
CALSCALE:GREGORIAN
BEGIN:VEVENT
UID:sabre-vobject-d8c4e077-ae30-4eef-b45a-325bd63dc91e
DTSTAMP:20260421T004221Z
SUMMARY:Bowling Center Lunch Specials July 19-22
DESCRIPTION:Back to business!\n
X-ALT-DESC:FMTTYPE=text/html:<!DOCTYPE HTML PUBLIC "-//W3C//DTD HTML 3.2//E
 N"><HTML><p>Back to business!</p>\n</HTML>
CREATED;TZID=America/Puerto_Rico:20220718T145852
URL;VALUE=URI:https://buchanan.armymwr.com/fort-buchanan-mwr-events-program
 s/fort-buchanan-mwr-events-programs-calendar
DTSTART;TZID=America/Puerto_Rico:20220719T110000
DTEND;TZID=America/Puerto_Rico:20220722T140000
SEQUENCE:0
END:VEVENT
END:VCALENDAR
