BEGIN:VCALENDAR
VERSION:2.0
PRODID:-//Sabre//Sabre VObject 4.5.8//EN
CALSCALE:GREGORIAN
BEGIN:VEVENT
UID:sabre-vobject-69bfdfbc-6a9b-48ef-8dc0-6a74d6c910a5
DTSTAMP:20260420T033411Z
SUMMARY:Library Summer Reading Program
DESCRIPTION:Bring your children to our Reading Program!\n
X-ALT-DESC:FMTTYPE=text/html:<!DOCTYPE HTML PUBLIC "-//W3C//DTD HTML 3.2//E
 N"><HTML><p>Bring your children to our Reading Program!</p>\n</HTML>
CREATED;TZID=America/Puerto_Rico:20220629T104317
URL;VALUE=URI:https://buchanan.armymwr.com/fort-buchanan-mwr-events-program
 s/fort-buchanan-mwr-events-programs-calendar
DTSTART;TZID=America/Puerto_Rico:20220713T100000
DTEND;TZID=America/Puerto_Rico:20220713T113000
SEQUENCE:0
END:VEVENT
BEGIN:VEVENT
UID:sabre-vobject-29e69aae-d1aa-4769-838c-b2231ad0fda6
DTSTAMP:20260420T033411Z
SUMMARY:Library Summer Reading Program
DESCRIPTION:Bring your children to our Reading Program!\n
X-ALT-DESC:FMTTYPE=text/html:<!DOCTYPE HTML PUBLIC "-//W3C//DTD HTML 3.2//E
 N"><HTML><p>Bring your children to our Reading Program!</p>\n</HTML>
CREATED;TZID=America/Puerto_Rico:20220629T104317
URL;VALUE=URI:https://buchanan.armymwr.com/fort-buchanan-mwr-events-program
 s/fort-buchanan-mwr-events-programs-calendar
DTSTART;TZID=America/Puerto_Rico:20220720T103000
DTEND;TZID=America/Puerto_Rico:20220720T113000
SEQUENCE:1
END:VEVENT
BEGIN:VEVENT
UID:sabre-vobject-630e265d-a902-4de7-819e-094bc99d2e89
DTSTAMP:20260420T033411Z
SUMMARY:Library Summer Reading Program
DESCRIPTION:Bring your children to our Reading Program!\n
X-ALT-DESC:FMTTYPE=text/html:<!DOCTYPE HTML PUBLIC "-//W3C//DTD HTML 3.2//E
 N"><HTML><p>Bring your children to our Reading Program!</p>\n</HTML>
CREATED;TZID=America/Puerto_Rico:20220629T104317
URL;VALUE=URI:https://buchanan.armymwr.com/fort-buchanan-mwr-events-program
 s/fort-buchanan-mwr-events-programs-calendar
DTSTART;TZID=America/Puerto_Rico:20220727T103000
DTEND;TZID=America/Puerto_Rico:20220727T113000
SEQUENCE:2
END:VEVENT
BEGIN:VEVENT
UID:sabre-vobject-e613ffdc-29d9-437f-9485-1a78a0383ad8
DTSTAMP:20260420T033411Z
SUMMARY:Library Summer Reading Program
DESCRIPTION:Bring your children to our Reading Program!\n
X-ALT-DESC:FMTTYPE=text/html:<!DOCTYPE HTML PUBLIC "-//W3C//DTD HTML 3.2//E
 N"><HTML><p>Bring your children to our Reading Program!</p>\n</HTML>
CREATED;TZID=America/Puerto_Rico:20220629T104317
URL;VALUE=URI:https://buchanan.armymwr.com/fort-buchanan-mwr-events-program
 s/fort-buchanan-mwr-events-programs-calendar
DTSTART;TZID=America/Puerto_Rico:20220803T103000
DTEND;TZID=America/Puerto_Rico:20220803T113000
SEQUENCE:3
END:VEVENT
BEGIN:VEVENT
UID:sabre-vobject-e7724bb8-79cb-41ef-8c5d-30ae002c668a
DTSTAMP:20260420T033411Z
SUMMARY:Library Summer Reading Program
DESCRIPTION:Bring your children to our Reading Program!\n
X-ALT-DESC:FMTTYPE=text/html:<!DOCTYPE HTML PUBLIC "-//W3C//DTD HTML 3.2//E
 N"><HTML><p>Bring your children to our Reading Program!</p>\n</HTML>
CREATED;TZID=America/Puerto_Rico:20220629T104317
URL;VALUE=URI:https://buchanan.armymwr.com/fort-buchanan-mwr-events-program
 s/fort-buchanan-mwr-events-programs-calendar
DTSTART;TZID=America/Puerto_Rico:20220810T103000
DTEND;TZID=America/Puerto_Rico:20220810T113000
SEQUENCE:4
END:VEVENT
BEGIN:VEVENT
UID:sabre-vobject-d06fd58a-ce85-4693-b2ca-44528f9ca2a7
DTSTAMP:20260420T033411Z
SUMMARY:Library Summer Reading Program
DESCRIPTION:Bring your children to our Reading Program!\n
X-ALT-DESC:FMTTYPE=text/html:<!DOCTYPE HTML PUBLIC "-//W3C//DTD HTML 3.2//E
 N"><HTML><p>Bring your children to our Reading Program!</p>\n</HTML>
CREATED;TZID=America/Puerto_Rico:20220629T104317
URL;VALUE=URI:https://buchanan.armymwr.com/fort-buchanan-mwr-events-program
 s/fort-buchanan-mwr-events-programs-calendar
DTSTART;TZID=America/Puerto_Rico:20220817T103000
DTEND;TZID=America/Puerto_Rico:20220817T113000
SEQUENCE:5
END:VEVENT
END:VCALENDAR
