BEGIN:VCALENDAR
VERSION:2.0
PRODID:-//Sabre//Sabre VObject 4.5.8//EN
CALSCALE:GREGORIAN
BEGIN:VEVENT
UID:sabre-vobject-baf90044-ad43-4207-9127-caa9819e5409
DTSTAMP:20260425T203300Z
SUMMARY:Cross Drills Classes
DESCRIPTION:Get fit with this amazing classes.\n
X-ALT-DESC:FMTTYPE=text/html:<!DOCTYPE HTML PUBLIC "-//W3C//DTD HTML 3.2//E
 N"><HTML><p>Get fit with this amazing classes.</p>\n</HTML>
CREATED;TZID=America/Puerto_Rico:20220613T155834
URL;VALUE=URI:https://buchanan.armymwr.com/fort-buchanan-mwr-events-program
 s/fort-buchanan-mwr-events-programs-calendar
DTSTART;TZID=America/Puerto_Rico:20220606T170000
DTEND;TZID=America/Puerto_Rico:20220831T180000
SEQUENCE:0
END:VEVENT
END:VCALENDAR
