BEGIN:VCALENDAR
VERSION:2.0
PRODID:-//Sabre//Sabre VObject 4.5.8//EN
CALSCALE:GREGORIAN
BEGIN:VEVENT
UID:sabre-vobject-1de781da-795c-4f0c-b991-177222a31295
DTSTAMP:20260425T213000Z
SUMMARY:Bowling Center Lunch Specials June 7-10
DESCRIPTION:Don&#39\;t miss it!\n
X-ALT-DESC:FMTTYPE=text/html:<!DOCTYPE HTML PUBLIC "-//W3C//DTD HTML 3.2//E
 N"><HTML><p>Don&#39\;t miss it!</p>\n</HTML>
CREATED;TZID=America/Puerto_Rico:20220607T083750
URL;VALUE=URI:https://buchanan.armymwr.com/fort-buchanan-mwr-events-program
 s/fort-buchanan-mwr-events-programs-calendar
DTSTART;TZID=America/Puerto_Rico:20220607T110000
DTEND;TZID=America/Puerto_Rico:20220610T140000
SEQUENCE:0
END:VEVENT
END:VCALENDAR
