BEGIN:VCALENDAR
VERSION:2.0
PRODID:-//Sabre//Sabre VObject 4.5.8//EN
CALSCALE:GREGORIAN
BEGIN:VEVENT
UID:sabre-vobject-3269e0c2-e8e4-4f2a-8f7b-3eda29a3e88a
DTSTAMP:20260420T154843Z
SUMMARY:New Year's Eve 
DESCRIPTION:
X-ALT-DESC:FMTTYPE=text/html:<!DOCTYPE HTML PUBLIC "-//W3C//DTD HTML 3.2//E
 N"><HTML></HTML>
CREATED;TZID=America/Puerto_Rico:20171212T142923
URL;VALUE=URI:https://buchanan.armymwr.com/fort-buchanan-mwr-events-program
 s/fort-buchanan-mwr-events-programs-calendar
DTSTART;TZID=America/Puerto_Rico:20171231T190000
DTEND;TZID=America/Puerto_Rico:20180101T020000
SEQUENCE:0
END:VEVENT
END:VCALENDAR
