BEGIN:VCALENDAR
VERSION:2.0
PRODID:-//Sabre//Sabre VObject 4.5.8//EN
CALSCALE:GREGORIAN
BEGIN:VEVENT
UID:sabre-vobject-f3fb64cd-36a9-4a13-9b93-abf2d2696cd7
DTSTAMP:20260421T120002Z
SUMMARY:MWR Facilities Temporary Hours starting Monday\, October 30 
DESCRIPTION:Temporary&nbsp\;hours will starting&nbsp\;Monday\, October 30th
 \, 2017.\nFitness Center:\n6:00am-7:00pm on weekdays\n8:00am-3:00pm on Sat
 urdays\nSunday is closed\n\nBowling:\n11:00am-7:00pm Monday to &nbsp\;Thur
 sday and Sunday&nbsp\;\n11:00am - 9:00pm Friday &amp\; Saturday&nbsp\;\n\n
 \nAuto Shop:\n10:30 -7:00pm Tuesday-Friday\n9:00am to 5:30pm Saturday\n\n*
 *ID CARD HOLDERS ONLY**&nbsp\;\n
X-ALT-DESC:FMTTYPE=text/html:<!DOCTYPE HTML PUBLIC "-//W3C//DTD HTML 3.2//E
 N"><HTML><p>Temporary&nbsp\;hours will starting&nbsp\;Monday\, October 30t
 h\, 2017.<br />\nFitness Center:<br />\n6:00am-7:00pm on weekdays<br />\n8
 :00am-3:00pm on Saturdays<br />\nSunday is closed<br />\n<br />\nBowling:<
 br />\n11:00am-7:00pm Monday to &nbsp\;Thursday and Sunday&nbsp\;<br />\n1
 1:00am - 9:00pm Friday &amp\; Saturday&nbsp\;</p>\n\n<p><br />\nAuto Shop:
 <br />\n10:30 -7:00pm Tuesday-Friday<br />\n9:00am to 5:30pm Saturday</p>\
 n\n<p>**ID CARD HOLDERS ONLY**&nbsp\;</p>\n</HTML>
CREATED;TZID=America/Puerto_Rico:20171117T101509
URL;VALUE=URI:https://buchanan.armymwr.com/fort-buchanan-mwr-events-program
 s/fort-buchanan-mwr-events-programs-calendar
DTSTART;TZID=America/Puerto_Rico:20171030T000000
DTEND;TZID=America/Puerto_Rico:20171229T235959
SEQUENCE:0
END:VEVENT
END:VCALENDAR
