BEGIN:VCALENDAR
VERSION:2.0
PRODID:-//Sabre//Sabre VObject 4.5.8//EN
CALSCALE:GREGORIAN
BEGIN:VEVENT
UID:sabre-vobject-376da457-ffef-4998-9256-81d03799aef3
DTSTAMP:20260422T053937Z
SUMMARY:Breast Cancer Awareness 5K Run (Cancelled due to impact of Hurrican
 e Maria)
DESCRIPTION:
X-ALT-DESC:FMTTYPE=text/html:<!DOCTYPE HTML PUBLIC "-//W3C//DTD HTML 3.2//E
 N"><HTML></HTML>
CREATED;TZID=America/Puerto_Rico:20171017T104016
URL;VALUE=URI:https://buchanan.armymwr.com/fort-buchanan-mwr-events-program
 s/fort-buchanan-mwr-events-programs-calendar
DTSTART;TZID=America/Puerto_Rico:20171022T140000
DTEND;TZID=America/Puerto_Rico:20171022T183000
SEQUENCE:0
END:VEVENT
END:VCALENDAR
