BEGIN:VCALENDAR
VERSION:2.0
PRODID:-//Sabre//Sabre VObject 4.5.8//EN
CALSCALE:GREGORIAN
BEGIN:VEVENT
UID:sabre-vobject-f717d97c-782e-4410-921a-c681174ada1c
DTSTAMP:20260422T072351Z
SUMMARY:Gold Star Mothers & Survivors Families' Memorial Service Event 
DESCRIPTION:
X-ALT-DESC:FMTTYPE=text/html:<!DOCTYPE HTML PUBLIC "-//W3C//DTD HTML 3.2//E
 N"><HTML></HTML>
CREATED;TZID=America/Puerto_Rico:20170913T134446
URL;VALUE=URI:https://buchanan.armymwr.com/fort-buchanan-mwr-events-program
 s/fort-buchanan-mwr-events-programs-calendar
DTSTART;TZID=America/Puerto_Rico:20170924T133000
DTEND;TZID=America/Puerto_Rico:20170924T153000
SEQUENCE:0
END:VEVENT
END:VCALENDAR
