BEGIN:VCALENDAR
VERSION:2.0
PRODID:-//Sabre//Sabre VObject 4.5.8//EN
CALSCALE:GREGORIAN
BEGIN:VEVENT
UID:sabre-vobject-549f3ae5-0dc1-4be5-ad51-065a4f68d98a
DTSTAMP:20260422T182725Z
SUMMARY:Scuba Lessons
DESCRIPTION:
X-ALT-DESC:FMTTYPE=text/html:<!DOCTYPE HTML PUBLIC "-//W3C//DTD HTML 3.2//E
 N"><HTML></HTML>
CREATED;TZID=America/Puerto_Rico:20170913T134446
URL;VALUE=URI:https://buchanan.armymwr.com/fort-buchanan-mwr-events-program
 s/fort-buchanan-mwr-events-programs-calendar
DTSTART;TZID=America/Puerto_Rico:20170802T180000
DTEND;TZID=America/Puerto_Rico:20170802T230000
SEQUENCE:0
END:VEVENT
BEGIN:VEVENT
UID:sabre-vobject-967cc94e-e075-4a52-b03c-fd9ec3217429
DTSTAMP:20260422T182725Z
SUMMARY:Scuba Lessons
DESCRIPTION:
X-ALT-DESC:FMTTYPE=text/html:<!DOCTYPE HTML PUBLIC "-//W3C//DTD HTML 3.2//E
 N"><HTML></HTML>
CREATED;TZID=America/Puerto_Rico:20170913T134446
URL;VALUE=URI:https://buchanan.armymwr.com/fort-buchanan-mwr-events-program
 s/fort-buchanan-mwr-events-programs-calendar
DTSTART;TZID=America/Puerto_Rico:20170804T180000
DTEND;TZID=America/Puerto_Rico:20170804T230000
SEQUENCE:1
END:VEVENT
BEGIN:VEVENT
UID:sabre-vobject-d954fc53-62ff-4b99-b890-4787626b4735
DTSTAMP:20260422T182725Z
SUMMARY:Scuba Lessons
DESCRIPTION:
X-ALT-DESC:FMTTYPE=text/html:<!DOCTYPE HTML PUBLIC "-//W3C//DTD HTML 3.2//E
 N"><HTML></HTML>
CREATED;TZID=America/Puerto_Rico:20170913T134446
URL;VALUE=URI:https://buchanan.armymwr.com/fort-buchanan-mwr-events-program
 s/fort-buchanan-mwr-events-programs-calendar
DTSTART;TZID=America/Puerto_Rico:20170805T080000
DTEND;TZID=America/Puerto_Rico:20170805T130000
SEQUENCE:2
END:VEVENT
BEGIN:VEVENT
UID:sabre-vobject-08502fc8-6f2f-4bae-bd66-3fd5fa32146a
DTSTAMP:20260422T182725Z
SUMMARY:Scuba Lessons
DESCRIPTION:
X-ALT-DESC:FMTTYPE=text/html:<!DOCTYPE HTML PUBLIC "-//W3C//DTD HTML 3.2//E
 N"><HTML></HTML>
CREATED;TZID=America/Puerto_Rico:20170913T134446
URL;VALUE=URI:https://buchanan.armymwr.com/fort-buchanan-mwr-events-program
 s/fort-buchanan-mwr-events-programs-calendar
DTSTART;TZID=America/Puerto_Rico:20170806T080000
DTEND;TZID=America/Puerto_Rico:20170806T130000
SEQUENCE:3
END:VEVENT
BEGIN:VEVENT
UID:sabre-vobject-b7f4b58b-6d5f-425b-ae08-6477c020c746
DTSTAMP:20260422T182725Z
SUMMARY:Scuba Lessons
DESCRIPTION:
X-ALT-DESC:FMTTYPE=text/html:<!DOCTYPE HTML PUBLIC "-//W3C//DTD HTML 3.2//E
 N"><HTML></HTML>
CREATED;TZID=America/Puerto_Rico:20170913T134446
URL;VALUE=URI:https://buchanan.armymwr.com/fort-buchanan-mwr-events-program
 s/fort-buchanan-mwr-events-programs-calendar
DTSTART;TZID=America/Puerto_Rico:20170906T180000
DTEND;TZID=America/Puerto_Rico:20170906T230000
SEQUENCE:4
END:VEVENT
BEGIN:VEVENT
UID:sabre-vobject-7baf5703-b2af-4b6a-9303-972afe404e65
DTSTAMP:20260422T182725Z
SUMMARY:Scuba Lessons
DESCRIPTION:
X-ALT-DESC:FMTTYPE=text/html:<!DOCTYPE HTML PUBLIC "-//W3C//DTD HTML 3.2//E
 N"><HTML></HTML>
CREATED;TZID=America/Puerto_Rico:20170913T134446
URL;VALUE=URI:https://buchanan.armymwr.com/fort-buchanan-mwr-events-program
 s/fort-buchanan-mwr-events-programs-calendar
DTSTART;TZID=America/Puerto_Rico:20170908T180000
DTEND;TZID=America/Puerto_Rico:20170908T230000
SEQUENCE:5
END:VEVENT
BEGIN:VEVENT
UID:sabre-vobject-8594a93c-e2e2-40f0-884e-72b2d4e2f18c
DTSTAMP:20260422T182725Z
SUMMARY:Scuba Lessons
DESCRIPTION:
X-ALT-DESC:FMTTYPE=text/html:<!DOCTYPE HTML PUBLIC "-//W3C//DTD HTML 3.2//E
 N"><HTML></HTML>
CREATED;TZID=America/Puerto_Rico:20170913T134446
URL;VALUE=URI:https://buchanan.armymwr.com/fort-buchanan-mwr-events-program
 s/fort-buchanan-mwr-events-programs-calendar
DTSTART;TZID=America/Puerto_Rico:20170909T080000
DTEND;TZID=America/Puerto_Rico:20170909T130000
SEQUENCE:6
END:VEVENT
BEGIN:VEVENT
UID:sabre-vobject-2b2ad9a5-bb3c-4373-ae51-174412c65b89
DTSTAMP:20260422T182725Z
SUMMARY:Scuba Lessons
DESCRIPTION:
X-ALT-DESC:FMTTYPE=text/html:<!DOCTYPE HTML PUBLIC "-//W3C//DTD HTML 3.2//E
 N"><HTML></HTML>
CREATED;TZID=America/Puerto_Rico:20170913T134446
URL;VALUE=URI:https://buchanan.armymwr.com/fort-buchanan-mwr-events-program
 s/fort-buchanan-mwr-events-programs-calendar
DTSTART;TZID=America/Puerto_Rico:20170910T080000
DTEND;TZID=America/Puerto_Rico:20170910T130000
SEQUENCE:7
END:VEVENT
END:VCALENDAR
