BEGIN:VCALENDAR
VERSION:2.0
PRODID:-//Sabre//Sabre VObject 4.5.8//EN
CALSCALE:GREGORIAN
BEGIN:VEVENT
UID:sabre-vobject-636b72d7-6abe-493e-969d-aced17c8dd02
DTSTAMP:20260423T092638Z
SUMMARY:Tiki Pool Party 
DESCRIPTION:
X-ALT-DESC:FMTTYPE=text/html:<!DOCTYPE HTML PUBLIC "-//W3C//DTD HTML 3.2//E
 N"><HTML></HTML>
CREATED;TZID=America/Puerto_Rico:20170913T134446
URL;VALUE=URI:https://buchanan.armymwr.com/fort-buchanan-mwr-events-program
 s/fort-buchanan-mwr-events-programs-calendar
DTSTART;TZID=America/Puerto_Rico:20170812T190000
DTEND;TZID=America/Puerto_Rico:20170812T235500
SEQUENCE:0
END:VEVENT
END:VCALENDAR
