BEGIN:VCALENDAR
VERSION:2.0
PRODID:-//Sabre//Sabre VObject 4.5.8//EN
CALSCALE:GREGORIAN
BEGIN:VEVENT
UID:sabre-vobject-fbdefafb-8a3c-4ce3-8ec5-5fdab7cecda4
DTSTAMP:20260424T050759Z
SUMMARY:BINGO Nights Inauguration
DESCRIPTION:Get your friends together and stay tuned for event details\, pr
 izes\, and more.\n
X-ALT-DESC:FMTTYPE=text/html:<!DOCTYPE HTML PUBLIC "-//W3C//DTD HTML 3.2//E
 N"><HTML><p data-pm-slice="1 1 []">Get your friends together and stay tune
 d for event details\, prizes\, and more.</p>\n</HTML>
CREATED;TZID=America/Puerto_Rico:20260227T145311
URL;VALUE=URI:https://buchanan.armymwr.com/fort-buchanan-mwr-events-program
 s/fort-buchanan-mwr-events-programs-calendar
DTSTART;TZID=America/Puerto_Rico:20260306T180000
DTEND;TZID=America/Puerto_Rico:20260306T190000
SEQUENCE:0
END:VEVENT
END:VCALENDAR
