BEGIN:VCALENDAR
VERSION:2.0
PRODID:-//Sabre//Sabre VObject 4.5.8//EN
CALSCALE:GREGORIAN
BEGIN:VEVENT
UID:sabre-vobject-8e7bcf44-690d-4385-afff-23f66f62f007
DTSTAMP:20260421T203128Z
SUMMARY:Aguadilla Kayaking Adventure
DESCRIPTION:Paddle through crystal-clear waters and explore Aguadilla&rsquo
 \;s stunning coastline\n
X-ALT-DESC:FMTTYPE=text/html:<!DOCTYPE HTML PUBLIC "-//W3C//DTD HTML 3.2//E
 N"><HTML><p data-pm-slice="1 1 []">Paddle through crystal-clear waters and
  explore Aguadilla&rsquo\;s stunning coastline</p>\n</HTML>
CREATED;TZID=America/Puerto_Rico:20260211T101703
URL;VALUE=URI:https://buchanan.armymwr.com/fort-buchanan-mwr-events-program
 s/fort-buchanan-mwr-events-programs-calendar
DTSTART;TZID=America/Puerto_Rico:20260328T063000
DTEND;TZID=America/Puerto_Rico:20260328T170000
SEQUENCE:0
END:VEVENT
END:VCALENDAR
