BEGIN:VCALENDAR
VERSION:2.0
PRODID:-//Sabre//Sabre VObject 4.5.8//EN
CALSCALE:GREGORIAN
BEGIN:VEVENT
UID:sabre-vobject-513eefd2-9ba5-4a29-b95e-9091f895612d
DTSTAMP:20260425T035749Z
SUMMARY:Reaching Puerto Rico’s Highest Point - Cerro Punta
DESCRIPTION:Breathe in fresh mountain air and discover Puerto Rico&rsquo\;s
  stunning summit on a guided adventure to Cerro Punta.\n
X-ALT-DESC:FMTTYPE=text/html:<!DOCTYPE HTML PUBLIC "-//W3C//DTD HTML 3.2//E
 N"><HTML><p>Breathe in fresh mountain air and discover Puerto Rico&rsquo\;
 s stunning summit on a guided adventure to Cerro Punta.</p>\n</HTML>
CREATED;TZID=America/Puerto_Rico:20251229T125114
URL;VALUE=URI:https://buchanan.armymwr.com/fort-buchanan-mwr-events-program
 s/fort-buchanan-mwr-events-programs-calendar
DTSTART;TZID=America/Puerto_Rico:20260124T063000
DTEND;TZID=America/Puerto_Rico:20260124T170000
SEQUENCE:0
END:VEVENT
END:VCALENDAR
