BEGIN:VCALENDAR
VERSION:2.0
PRODID:-//Sabre//Sabre VObject 4.5.8//EN
CALSCALE:GREGORIAN
BEGIN:VEVENT
UID:sabre-vobject-37fbd318-11ac-4936-8470-cceeec3ab8db
DTSTAMP:20260420T121216Z
SUMMARY:Karaoke Night
DESCRIPTION:Whether a seasoned performer or a first-time singer\, this is y
 our moment to shine under the spotlight.\n
X-ALT-DESC:FMTTYPE=text/html:<!DOCTYPE HTML PUBLIC "-//W3C//DTD HTML 3.2//E
 N"><HTML><p>Whether a seasoned performer or a first-time singer\, this is 
 your moment to shine under the spotlight.</p>\n</HTML>
CREATED;TZID=America/Puerto_Rico:20250605T105616
URL;VALUE=URI:https://buchanan.armymwr.com/fort-buchanan-mwr-events-program
 s/fort-buchanan-mwr-events-programs-calendar
DTSTART;TZID=America/Puerto_Rico:20250606T170000
DTEND;TZID=America/Puerto_Rico:20250606T210000
SEQUENCE:0
END:VEVENT
END:VCALENDAR
